Package: tigre Version: 1.62.0 Command: E:\biocbuild\bbs-3.21-bioc\R\bin\R.exe CMD check --no-multiarch --install=check:tigre.install-out.txt --library=E:\biocbuild\bbs-3.21-bioc\R\library --no-vignettes --timings tigre_1.62.0.tar.gz StartedAt: 2025-08-15 07:50:32 -0400 (Fri, 15 Aug 2025) EndedAt: 2025-08-15 07:53:23 -0400 (Fri, 15 Aug 2025) EllapsedTime: 171.6 seconds RetCode: 0 Status: OK CheckDir: tigre.Rcheck Warnings: 0