Package: tigre Version: 1.62.0 Command: rm -rf tigre.buildbin-libdir && mkdir tigre.buildbin-libdir && E:\biocbuild\bbs-3.21-bioc\R\bin\R.exe CMD INSTALL --build --library=tigre.buildbin-libdir tigre_1.62.0.tar.gz StartedAt: 2025-08-15 10:29:18 -0400 (Fri, 15 Aug 2025) EndedAt: 2025-08-15 10:30:25 -0400 (Fri, 15 Aug 2025) EllapsedTime: 66.2 seconds RetCode: 0 Status: OK PackageFile: tigre_1.62.0.zip PackageFileSize: 988.3 KiB