Package: tigre Version: 1.62.0 Command: /home/biocbuild/bbs-3.21-bioc/R/bin/R CMD INSTALL tigre StartedAt: 2025-10-15 15:26:58 -0400 (Wed, 15 Oct 2025) EndedAt: 2025-10-15 15:27:18 -0400 (Wed, 15 Oct 2025) EllapsedTime: 19.8 seconds RetCode: 0 Status: OK