Package: tigre Version: 1.62.0 Command: /Library/Frameworks/R.framework/Resources/bin/R CMD INSTALL tigre StartedAt: 2025-10-13 15:49:36 -0400 (Mon, 13 Oct 2025) EndedAt: 2025-10-13 15:50:22 -0400 (Mon, 13 Oct 2025) EllapsedTime: 45.9 seconds RetCode: 0 Status: OK