Package: tigre Version: 1.62.0 Command: rm -rf tigre.buildbin-libdir && mkdir tigre.buildbin-libdir && /Users/biocbuild/BBS/utils/build-universal.sh tigre_1.62.0.tar.gz /Library/Frameworks/R.framework/Resources/bin/R tigre.buildbin-libdir StartedAt: 2025-10-14 14:57:59 -0400 (Tue, 14 Oct 2025) EndedAt: 2025-10-14 14:58:54 -0400 (Tue, 14 Oct 2025) EllapsedTime: 55.2 seconds RetCode: 0 Status: OK PackageFile: tigre_1.62.0.tgz PackageFileSize: 977.1 KiB