Package: tigre Version: 1.62.0 Command: /Library/Frameworks/R.framework/Resources/bin/R CMD build --keep-empty-dirs --no-resave-data tigre StartedAt: 2025-04-21 18:43:55 -0400 (Mon, 21 Apr 2025) EndedAt: 2025-04-21 18:46:15 -0400 (Mon, 21 Apr 2025) EllapsedTime: 140.2 seconds RetCode: 0 Status: OK PackageFile: tigre_1.62.0.tar.gz PackageFileSize: 317.5 KiB