Package: tigre Version: 1.62.0 Command: /home/biocbuild/R/R/bin/R CMD INSTALL tigre StartedAt: 2025-10-13 20:42:18 -0000 (Mon, 13 Oct 2025) EndedAt: 2025-10-13 20:42:48 -0000 (Mon, 13 Oct 2025) EllapsedTime: 30.3 seconds RetCode: 0 Status: OK