Package: tigre Version: 1.62.0 Command: /home/biocbuild/R/R/bin/R CMD build --keep-empty-dirs --no-resave-data tigre StartedAt: 2025-10-14 05:24:09 -0000 (Tue, 14 Oct 2025) EndedAt: 2025-10-14 05:28:09 -0000 (Tue, 14 Oct 2025) EllapsedTime: 239.2 seconds RetCode: 0 Status: OK PackageFile: tigre_1.62.0.tar.gz PackageFileSize: 309.6 KiB