Package: tigre Version: 1.62.0 Command: /Library/Frameworks/R.framework/Resources/bin/R CMD build --keep-empty-dirs --no-resave-data tigre StartedAt: 2025-10-14 11:04:14 -0400 (Tue, 14 Oct 2025) EndedAt: 2025-10-14 11:08:03 -0400 (Tue, 14 Oct 2025) EllapsedTime: 229.5 seconds RetCode: 0 Status: OK PackageFile: tigre_1.62.0.tar.gz PackageFileSize: 317.8 KiB