Package: tidyomics Version: 1.4.0 Command: /Library/Frameworks/R.framework/Resources/bin/R CMD INSTALL tidyomics StartedAt: 2025-09-29 16:01:13 -0400 (Mon, 29 Sep 2025) EndedAt: 2025-09-29 16:02:30 -0400 (Mon, 29 Sep 2025) EllapsedTime: 77.0 seconds RetCode: 0 Status: OK