Package: tidyomics Version: 1.4.0 Command: /Library/Frameworks/R.framework/Resources/bin/R CMD build --keep-empty-dirs --no-resave-data tidyomics StartedAt: 2025-09-29 23:13:50 -0400 (Mon, 29 Sep 2025) EndedAt: 2025-09-29 23:15:14 -0400 (Mon, 29 Sep 2025) EllapsedTime: 83.8 seconds RetCode: 0 Status: OK PackageFile: tidyomics_1.4.0.tar.gz PackageFileSize: 55.93 KiB