Package: terraTCGAdata Version: 1.12.0 Command: /Library/Frameworks/R.framework/Resources/bin/R CMD INSTALL terraTCGAdata StartedAt: 2025-10-13 16:16:32 -0400 (Mon, 13 Oct 2025) EndedAt: 2025-10-13 16:17:25 -0400 (Mon, 13 Oct 2025) EllapsedTime: 53.1 seconds RetCode: 0 Status: OK