Package: terraTCGAdata Version: 1.12.0 Command: /Library/Frameworks/R.framework/Resources/bin/R CMD check --install=check:terraTCGAdata.install-out.txt --library=/Library/Frameworks/R.framework/Resources/library --no-vignettes --timings terraTCGAdata_1.12.0.tar.gz StartedAt: 2025-10-14 11:34:03 -0400 (Tue, 14 Oct 2025) EndedAt: 2025-10-14 11:40:09 -0400 (Tue, 14 Oct 2025) EllapsedTime: 366.2 seconds RetCode: 0 Status: OK CheckDir: terraTCGAdata.Rcheck Warnings: 0