Package: terraTCGAdata Version: 1.12.0 Command: /Library/Frameworks/R.framework/Resources/bin/R CMD build --keep-empty-dirs --no-resave-data terraTCGAdata StartedAt: 2025-10-13 23:12:31 -0400 (Mon, 13 Oct 2025) EndedAt: 2025-10-13 23:13:45 -0400 (Mon, 13 Oct 2025) EllapsedTime: 73.9 seconds RetCode: 0 Status: OK PackageFile: terraTCGAdata_1.12.0.tar.gz PackageFileSize: 234.1 KiB