Package: ternarynet Version: 1.52.0 Command: rm -rf ternarynet.buildbin-libdir && mkdir ternarynet.buildbin-libdir && E:\biocbuild\bbs-3.21-bioc\R\bin\R.exe CMD INSTALL --build --library=ternarynet.buildbin-libdir ternarynet_1.52.0.tar.gz StartedAt: 2025-08-15 10:28:30 -0400 (Fri, 15 Aug 2025) EndedAt: 2025-08-15 10:29:46 -0400 (Fri, 15 Aug 2025) EllapsedTime: 76.2 seconds RetCode: 0 Status: OK PackageFile: ternarynet_1.52.0.zip PackageFileSize: 531.1 KiB