Package: ternarynet Version: 1.52.0 Command: /home/biocbuild/bbs-3.21-bioc/R/bin/R CMD INSTALL ternarynet StartedAt: 2025-10-01 15:08:13 -0400 (Wed, 01 Oct 2025) EndedAt: 2025-10-01 15:08:28 -0400 (Wed, 01 Oct 2025) EllapsedTime: 14.8 seconds RetCode: 0 Status: OK