Package: ternarynet Version: 1.52.0 Command: /Library/Frameworks/R.framework/Resources/bin/R CMD INSTALL ternarynet StartedAt: 2025-10-02 15:09:19 -0400 (Thu, 02 Oct 2025) EndedAt: 2025-10-02 15:09:49 -0400 (Thu, 02 Oct 2025) EllapsedTime: 30.0 seconds RetCode: 0 Status: OK