Package: ternarynet Version: 1.52.0 Command: /Library/Frameworks/R.framework/Resources/bin/R CMD INSTALL ternarynet StartedAt: 2025-09-29 15:21:25 -0400 (Mon, 29 Sep 2025) EndedAt: 2025-09-29 15:21:36 -0400 (Mon, 29 Sep 2025) EllapsedTime: 10.7 seconds RetCode: 0 Status: OK