Package: ternarynet Version: 1.52.0 Command: rm -rf ternarynet.buildbin-libdir && mkdir ternarynet.buildbin-libdir && /Users/biocbuild/BBS/utils/build-universal.sh ternarynet_1.52.0.tar.gz /Library/Frameworks/R.framework/Resources/bin/R ternarynet.buildbin-libdir StartedAt: 2025-10-01 20:49:12 -0400 (Wed, 01 Oct 2025) EndedAt: 2025-10-01 20:49:26 -0400 (Wed, 01 Oct 2025) EllapsedTime: 13.8 seconds RetCode: 0 Status: OK PackageFile: ternarynet_1.52.0.tgz PackageFileSize: 564.3 KiB