Package: tenXplore Version: 1.30.0 Command: E:\biocbuild\bbs-3.21-bioc\R\bin\R.exe CMD check --no-multiarch --install=check:tenXplore.install-out.txt --library=E:\biocbuild\bbs-3.21-bioc\R\library --no-vignettes --timings tenXplore_1.30.0.tar.gz StartedAt: 2025-08-15 07:45:28 -0400 (Fri, 15 Aug 2025) EndedAt: 2025-08-15 07:50:30 -0400 (Fri, 15 Aug 2025) EllapsedTime: 302.5 seconds RetCode: 0 Status: OK CheckDir: tenXplore.Rcheck Warnings: 0