Package: tenXplore Version: 1.30.0 Command: /home/biocbuild/bbs-3.21-bioc/R/bin/R CMD build --keep-empty-dirs --no-resave-data tenXplore StartedAt: 2025-10-12 20:18:53 -0400 (Sun, 12 Oct 2025) EndedAt: 2025-10-12 20:19:39 -0400 (Sun, 12 Oct 2025) EllapsedTime: 46.0 seconds RetCode: 0 Status: OK PackageFile: tenXplore_1.30.0.tar.gz PackageFileSize: 2.433 MiB