Package: tenXplore Version: 1.30.0 Command: /home/biocbuild/R/R/bin/R CMD INSTALL tenXplore StartedAt: 2025-10-13 20:51:15 -0000 (Mon, 13 Oct 2025) EndedAt: 2025-10-13 20:51:58 -0000 (Mon, 13 Oct 2025) EllapsedTime: 43.9 seconds RetCode: 0 Status: OK