Package: tenXplore Version: 1.30.0 Command: /home/biocbuild/R/R/bin/R CMD build --keep-empty-dirs --no-resave-data tenXplore StartedAt: 2025-10-14 05:19:41 -0000 (Tue, 14 Oct 2025) EndedAt: 2025-10-14 05:20:45 -0000 (Tue, 14 Oct 2025) EllapsedTime: 64.0 seconds RetCode: 0 Status: OK PackageFile: tenXplore_1.30.0.tar.gz PackageFileSize: 2.457 MiB