Package: tenXplore Version: 1.30.0 Command: rm -rf tenXplore.buildbin-libdir && mkdir tenXplore.buildbin-libdir && /Users/biocbuild/BBS/utils/build-universal.sh tenXplore_1.30.0.tar.gz /Library/Frameworks/R.framework/Resources/bin/R tenXplore.buildbin-libdir StartedAt: 2025-04-21 22:54:56 -0400 (Mon, 21 Apr 2025) EndedAt: 2025-04-21 22:55:11 -0400 (Mon, 21 Apr 2025) EllapsedTime: 14.2 seconds RetCode: 0 Status: OK PackageFile: tenXplore_1.30.0.tgz PackageFileSize: 2.181 MiB