Package: tenXplore Version: 1.30.0 Maintainer: VJ Carey MaintainerEmail: stvjc at channing.harvard.edu git_url: https://git.bioconductor.org/packages/tenXplore git_branch: RELEASE_3_21 git_last_commit: 3cd7a55 git_last_commit_date: 2025-04-15 11:16:05 -0400 (Tue, 15 Apr 2025)