Package: target Version: 1.22.0 Command: chmod a+r target -R && E:\biocbuild\bbs-3.21-bioc\R\bin\R.exe CMD build --keep-empty-dirs --no-resave-data target StartedAt: 2025-08-14 22:39:17 -0400 (Thu, 14 Aug 2025) EndedAt: 2025-08-14 22:40:30 -0400 (Thu, 14 Aug 2025) EllapsedTime: 73.2 seconds RetCode: 0 Status: OK PackageFile: target_1.22.0.tar.gz PackageFileSize: 2.899 MiB