Package: target Version: 1.22.0 Command: /home/biocbuild/bbs-3.21-bioc/R/bin/R CMD check --install=check:target.install-out.txt --library=/home/biocbuild/bbs-3.21-bioc/R/site-library --timings target_1.22.0.tar.gz StartedAt: 2025-10-16 04:17:36 -0400 (Thu, 16 Oct 2025) EndedAt: 2025-10-16 04:19:28 -0400 (Thu, 16 Oct 2025) EllapsedTime: 112.2 seconds RetCode: 0 Status: OK CheckDir: target.Rcheck Warnings: 0