Package: target Version: 1.22.0 Command: rm -rf target.buildbin-libdir && mkdir target.buildbin-libdir && /Users/biocbuild/BBS/utils/build-universal.sh target_1.22.0.tar.gz /Library/Frameworks/R.framework/Resources/bin/R target.buildbin-libdir StartedAt: 2025-10-14 14:56:15 -0400 (Tue, 14 Oct 2025) EndedAt: 2025-10-14 14:56:43 -0400 (Tue, 14 Oct 2025) EllapsedTime: 28.4 seconds RetCode: 0 Status: OK PackageFile: target_1.22.0.tgz PackageFileSize: 3.305 MiB