Package: target Version: 1.22.0 Command: /home/biocbuild/R/R/bin/R CMD INSTALL target StartedAt: 2025-10-13 21:12:01 -0000 (Mon, 13 Oct 2025) EndedAt: 2025-10-13 21:12:16 -0000 (Mon, 13 Oct 2025) EllapsedTime: 14.4 seconds RetCode: 0 Status: OK