Package: target Version: 1.22.0 Command: /home/biocbuild/R/R/bin/R CMD check --install=check:target.install-out.txt --library=/home/biocbuild/R/R/site-library --no-vignettes --timings target_1.22.0.tar.gz StartedAt: 2025-10-14 15:12:03 -0000 (Tue, 14 Oct 2025) EndedAt: 2025-10-14 15:13:44 -0000 (Tue, 14 Oct 2025) EllapsedTime: 101.2 seconds RetCode: 0 Status: OK CheckDir: target.Rcheck Warnings: 0