Package: target Version: 1.22.0 Command: /home/biocbuild/R/R/bin/R CMD build --keep-empty-dirs --no-resave-data target StartedAt: 2025-10-14 05:18:31 -0000 (Tue, 14 Oct 2025) EndedAt: 2025-10-14 05:19:33 -0000 (Tue, 14 Oct 2025) EllapsedTime: 62.1 seconds RetCode: 0 Status: OK PackageFile: target_1.22.0.tar.gz PackageFileSize: 3.083 MiB