Package: target Version: 1.22.0 Command: /Library/Frameworks/R.framework/Resources/bin/R CMD INSTALL target StartedAt: 2025-04-21 15:28:09 -0400 (Mon, 21 Apr 2025) EndedAt: 2025-04-21 15:28:15 -0400 (Mon, 21 Apr 2025) EllapsedTime: 5.4 seconds RetCode: 0 Status: OK