Package: target Version: 1.22.0 Command: rm -rf target.buildbin-libdir && mkdir target.buildbin-libdir && /Users/biocbuild/BBS/utils/build-universal.sh target_1.22.0.tar.gz /Library/Frameworks/R.framework/Resources/bin/R target.buildbin-libdir StartedAt: 2025-04-21 22:54:50 -0400 (Mon, 21 Apr 2025) EndedAt: 2025-04-21 22:54:55 -0400 (Mon, 21 Apr 2025) EllapsedTime: 5.3 seconds RetCode: 0 Status: OK PackageFile: target_1.22.0.tgz PackageFileSize: 3.306 MiB