Package: target Version: 1.22.0 Command: /Library/Frameworks/R.framework/Resources/bin/R CMD build --keep-empty-dirs --no-resave-data target StartedAt: 2025-09-30 10:45:55 -0400 (Tue, 30 Sep 2025) EndedAt: 2025-09-30 10:46:48 -0400 (Tue, 30 Sep 2025) EllapsedTime: 53.5 seconds RetCode: 0 Status: OK PackageFile: target_1.22.0.tar.gz PackageFileSize: 3.08 MiB