Package: target Version: 1.22.0 Command: rm -rf target.buildbin-libdir && mkdir target.buildbin-libdir && /Users/biocbuild/BBS/utils/build-universal.sh target_1.22.0.tar.gz /Library/Frameworks/R.framework/Resources/bin/R target.buildbin-libdir StartedAt: 2025-10-01 20:47:35 -0400 (Wed, 01 Oct 2025) EndedAt: 2025-10-01 20:47:51 -0400 (Wed, 01 Oct 2025) EllapsedTime: 15.7 seconds RetCode: 0 Status: OK PackageFile: target_1.22.0.tgz PackageFileSize: 3.305 MiB