Package: tadar Version: 1.6.0 Command: rm -rf tadar.buildbin-libdir && mkdir tadar.buildbin-libdir && /Users/biocbuild/BBS/utils/build-universal.sh tadar_1.6.0.tar.gz /Library/Frameworks/R.framework/Resources/bin/R tadar.buildbin-libdir StartedAt: 2025-10-14 14:56:10 -0400 (Tue, 14 Oct 2025) EndedAt: 2025-10-14 14:58:09 -0400 (Tue, 14 Oct 2025) EllapsedTime: 119.4 seconds RetCode: 0 Status: OK PackageFile: tadar_1.6.0.tgz PackageFileSize: 1.489 MiB