Package: tRanslatome Version: 1.46.0 Maintainer: Toma Tebaldi , Erik Dassi MaintainerEmail: erik.dassi at unitn.it git_url: https://git.bioconductor.org/packages/tRanslatome git_branch: RELEASE_3_21 git_last_commit: 0750343 git_last_commit_date: 2025-04-15 10:24:21 -0400 (Tue, 15 Apr 2025)