Package: tRNAscanImport Version: 1.28.0 Command: E:\biocbuild\bbs-3.21-bioc\R\bin\R.exe CMD check --no-multiarch --install=check:tRNAscanImport.install-out.txt --library=E:\biocbuild\bbs-3.21-bioc\R\library --no-vignettes --timings tRNAscanImport_1.28.0.tar.gz StartedAt: 2025-08-15 08:04:27 -0400 (Fri, 15 Aug 2025) EndedAt: 2025-08-15 08:09:59 -0400 (Fri, 15 Aug 2025) EllapsedTime: 332.9 seconds RetCode: 0 Status: OK CheckDir: tRNAscanImport.Rcheck Warnings: 0