Package: tRNAscanImport Version: 1.28.0 Command: rm -rf tRNAscanImport.buildbin-libdir && mkdir tRNAscanImport.buildbin-libdir && /Users/biocbuild/BBS/utils/build-universal.sh tRNAscanImport_1.28.0.tar.gz /Library/Frameworks/R.framework/Resources/bin/R tRNAscanImport.buildbin-libdir StartedAt: 2025-10-14 15:00:27 -0400 (Tue, 14 Oct 2025) EndedAt: 2025-10-14 15:02:07 -0400 (Tue, 14 Oct 2025) EllapsedTime: 100.4 seconds RetCode: 0 Status: OK PackageFile: tRNAscanImport_1.28.0.tgz PackageFileSize: 928.4 KiB