Package: tRNAscanImport Version: 1.28.0 Command: /Library/Frameworks/R.framework/Resources/bin/R CMD check --install=check:tRNAscanImport.install-out.txt --library=/Library/Frameworks/R.framework/Resources/library --no-vignettes --timings tRNAscanImport_1.28.0.tar.gz StartedAt: 2025-04-22 00:13:04 -0400 (Tue, 22 Apr 2025) EndedAt: 2025-04-22 00:18:16 -0400 (Tue, 22 Apr 2025) EllapsedTime: 312.0 seconds RetCode: 0 Status: OK CheckDir: tRNAscanImport.Rcheck Warnings: 0