Package: tRNAscanImport Version: 1.28.0 Command: /home/biocbuild/R/R/bin/R CMD INSTALL tRNAscanImport StartedAt: 2025-10-13 20:53:20 -0000 (Mon, 13 Oct 2025) EndedAt: 2025-10-13 20:54:13 -0000 (Mon, 13 Oct 2025) EllapsedTime: 52.9 seconds RetCode: 0 Status: OK