Package: tRNAscanImport Version: 1.28.0 Command: /home/biocbuild/R/R/bin/R CMD check --install=check:tRNAscanImport.install-out.txt --library=/home/biocbuild/R/R/site-library --no-vignettes --timings tRNAscanImport_1.28.0.tar.gz StartedAt: 2025-10-10 15:05:28 -0000 (Fri, 10 Oct 2025) EndedAt: 2025-10-10 15:11:58 -0000 (Fri, 10 Oct 2025) EllapsedTime: 389.6 seconds RetCode: 0 Status: OK CheckDir: tRNAscanImport.Rcheck Warnings: 0