Package: tRNAscanImport Version: 1.28.0 Command: /home/biocbuild/R/R/bin/R CMD build --keep-empty-dirs --no-resave-data tRNAscanImport StartedAt: 2025-10-14 05:31:53 -0000 (Tue, 14 Oct 2025) EndedAt: 2025-10-14 05:34:26 -0000 (Tue, 14 Oct 2025) EllapsedTime: 153.1 seconds RetCode: 0 Status: OK PackageFile: tRNAscanImport_1.28.0.tar.gz PackageFileSize: 906.5 KiB