Package: tRNA Version: 1.26.0 Command: rm -rf tRNA.buildbin-libdir && mkdir tRNA.buildbin-libdir && /Users/biocbuild/BBS/utils/build-universal.sh tRNA_1.26.0.tar.gz /Library/Frameworks/R.framework/Resources/bin/R tRNA.buildbin-libdir StartedAt: 2025-10-14 15:00:17 -0400 (Tue, 14 Oct 2025) EndedAt: 2025-10-14 15:01:04 -0400 (Tue, 14 Oct 2025) EllapsedTime: 47.6 seconds RetCode: 0 Status: OK PackageFile: tRNA_1.26.0.tgz PackageFileSize: 1.475 MiB