Package: tLOH Version: 1.16.0 Command: chmod a+r tLOH -R && E:\biocbuild\bbs-3.21-bioc\R\bin\R.exe CMD build --keep-empty-dirs --no-resave-data tLOH StartedAt: 2025-08-14 22:44:35 -0400 (Thu, 14 Aug 2025) EndedAt: 2025-08-14 22:46:11 -0400 (Thu, 14 Aug 2025) EllapsedTime: 96.0 seconds RetCode: 0 Status: OK PackageFile: tLOH_1.16.0.tar.gz PackageFileSize: 1.732 MiB