Package: tLOH Version: 1.16.0 Command: /home/biocbuild/R/R/bin/R CMD check --install=check:tLOH.install-out.txt --library=/home/biocbuild/R/R/site-library --no-vignettes --timings tLOH_1.16.0.tar.gz StartedAt: 2025-10-10 14:54:11 -0000 (Fri, 10 Oct 2025) EndedAt: 2025-10-10 15:09:16 -0000 (Fri, 10 Oct 2025) EllapsedTime: 904.3 seconds RetCode: 0 Status: OK CheckDir: tLOH.Rcheck Warnings: 0