Package: tLOH Version: 1.16.0 Command: /home/biocbuild/R/R/bin/R CMD build --keep-empty-dirs --no-resave-data tLOH StartedAt: 2025-10-14 05:25:12 -0000 (Tue, 14 Oct 2025) EndedAt: 2025-10-14 05:26:55 -0000 (Tue, 14 Oct 2025) EllapsedTime: 103.1 seconds RetCode: 0 Status: OK PackageFile: tLOH_1.16.0.tar.gz PackageFileSize: 2.274 MiB