Package: tLOH Version: 1.16.0 Command: /Library/Frameworks/R.framework/Resources/bin/R CMD build --keep-empty-dirs --no-resave-data tLOH StartedAt: 2025-04-21 17:52:58 -0400 (Mon, 21 Apr 2025) EndedAt: 2025-04-21 17:53:30 -0400 (Mon, 21 Apr 2025) EllapsedTime: 32.4 seconds RetCode: 0 Status: OK PackageFile: tLOH_1.16.0.tar.gz PackageFileSize: 2.446 MiB