Package: tLOH Version: 1.16.0 Command: rm -rf tLOH.buildbin-libdir && mkdir tLOH.buildbin-libdir && /Users/biocbuild/BBS/utils/build-universal.sh tLOH_1.16.0.tar.gz /Library/Frameworks/R.framework/Resources/bin/R tLOH.buildbin-libdir StartedAt: 2025-04-21 22:55:27 -0400 (Mon, 21 Apr 2025) EndedAt: 2025-04-21 22:55:47 -0400 (Mon, 21 Apr 2025) EllapsedTime: 20.5 seconds RetCode: 0 Status: OK PackageFile: tLOH_1.16.0.tgz PackageFileSize: 2.513 MiB