Package: tLOH Version: 1.16.0 Maintainer: Michelle Webb MaintainerEmail: michelgw at usc.edu git_url: https://git.bioconductor.org/packages/tLOH git_branch: RELEASE_3_21 git_last_commit: d1e3d4c git_last_commit_date: 2025-04-15 12:28:29 -0400 (Tue, 15 Apr 2025)